BEGIN:VCALENDAR
VERSION:2.0
PRODID:-//Satakunnan Monikulttuuriyhdistys ry - ECPv6.2.9//NONSGML v1.0//EN
CALSCALE:GREGORIAN
METHOD:PUBLISH
X-ORIGINAL-URL:https://monikulttuuriyhdistys.fi
X-WR-CALDESC:Tapahtumat Satakunnan Monikulttuuriyhdistys ry
REFRESH-INTERVAL;VALUE=DURATION:PT1H
X-Robots-Tag:noindex
X-PUBLISHED-TTL:PT1H
BEGIN:VTIMEZONE
TZID:Europe/Helsinki
BEGIN:DAYLIGHT
TZOFFSETFROM:+0200
TZOFFSETTO:+0300
TZNAME:EEST
DTSTART:20260329T010000
END:DAYLIGHT
BEGIN:STANDARD
TZOFFSETFROM:+0300
TZOFFSETTO:+0200
TZNAME:EET
DTSTART:20261025T010000
END:STANDARD
END:VTIMEZONE
BEGIN:VEVENT
DTSTART;TZID=Europe/Helsinki:20260422T163000
DTEND;TZID=Europe/Helsinki:20260422T180000
DTSTAMP:20260420T045422
CREATED:20260223T114320Z
LAST-MODIFIED:20260223T114320Z
UID:28812-1776875400-1776880800@monikulttuuriyhdistys.fi
SUMMARY:Puhutaan Yhdessä
DESCRIPTION:Tule keskustelemaan suomen kielellä ja tutustumaan uusiin ihmisiin! \nKahvitarjoilu \nAvoin ja maksuton tapahtuma!
URL:https://monikulttuuriyhdistys.fi/event/puhutaan-yhdessa-2/
ATTACH;FMTTYPE=image/png:https://monikulttuuriyhdistys.fi/wp-content/uploads/2026/02/PU_kotisvut.png
END:VEVENT
END:VCALENDAR